BEGIN:VCALENDAR
VERSION:2.0
PRODID:-//Cornerstone Bar - ECPv4.6.26//NONSGML v1.0//EN
CALSCALE:GREGORIAN
METHOD:PUBLISH
X-WR-CALNAME:Cornerstone Bar
X-ORIGINAL-URL:https://cornerstonebar.co.nz
X-WR-CALDESC:Events for Cornerstone Bar
BEGIN:VEVENT
DTSTART;TZID=UTC+0:20181125T160000
DTEND;TZID=UTC+0:20181125T233000
DTSTAMP:20181224T095034
CREATED:20181118T234510Z
LAST-MODIFIED:20181120T214250Z
UID:1040-1543161600-1543188600@cornerstonebar.co.nz
SUMMARY:Live Music "Jason Crawford" 4 - 7pm & 8.30pm - 11.30pm
DESCRIPTION:Live Music from “Jason Crawford” \n4 – 7pm AND 8.30pm – 11.30pm \n \nWe bring you live music every night of the week!  We are proud to present the best local talent to you daily. \n  \n
URL:https://cornerstonebar.co.nz/event/live-music-jason-crawford-4-7pm-8-30pm-11-30pm/
CATEGORIES:Live Music
END:VEVENT
END:VCALENDAR