BEGIN:VCALENDAR
VERSION:2.0
PRODID:-//Cornerstone Bar - ECPv4.9.11//NONSGML v1.0//EN
CALSCALE:GREGORIAN
METHOD:PUBLISH
X-WR-CALNAME:Cornerstone Bar
X-ORIGINAL-URL:https://cornerstonebar.co.nz
X-WR-CALDESC:Events for Cornerstone Bar
BEGIN:VTIMEZONE
TZID:UTC
BEGIN:STANDARD
TZOFFSETFROM:+0000
TZOFFSETTO:+0000
TZNAME:UTC
DTSTART:20190101T000000
END:STANDARD
END:VTIMEZONE
BEGIN:VEVENT
DTSTART;VALUE=DATE:20191126
DTEND;VALUE=DATE:20191128
DTSTAMP:20191216T222800
CREATED:20191012T225326Z
LAST-MODIFIED:20191012T225326Z
UID:2009-1574737200-1574823599@cornerstonebar.co.nz
SUMMARY:Poker Night
DESCRIPTION:Texas Hold ‘Em Poker; every Tuesday night from 7pm \n$20 Buy In \n \n
URL:https://cornerstonebar.co.nz/event/poker-night-12/
LOCATION:Cornerstone Bar and Eatery\, 107 The Strand\, Tauranga\, Bay of Plenty\, New Zealand
CATEGORIES:Hospo Night
END:VEVENT
BEGIN:VEVENT
DTSTART;VALUE=DATE:20191201
DTEND;VALUE=DATE:20191204
DTSTAMP:20191216T222800
CREATED:20191204T063319Z
LAST-MODIFIED:20191204T063319Z
UID:2051-1575169200-1575341999@cornerstonebar.co.nz
SUMMARY:Hospo Night
DESCRIPTION:Cornerstone would like to welcome our ‘hospo’ neighbours\, local student population\, and visiting backpackers to come along every Sunday & Monday evening from 5pm to enjoy great food & drink specials\, catch up with old friends\, and make some new friends! \n  \n\n$20 Jugs: includes Export\, Export 33\, Tui\, Waikato\, Amstel Light\n$25 Bottle of Wine: includes House Sauvignon Blanc\, Chardonnay\, Pinot Gris\, or Merlot\n$6 Pint of Tap Beer\n$6 Glass of House Wine\n$16 Burger & Beer: choice of beef\, chicken\, or fish burger\, with a pint of beer OR a glass glass wine\n$10 Cocktail of the Day\n\n \n
URL:https://cornerstonebar.co.nz/event/hospo-night-12/
LOCATION:Cornerstone Bar and Eatery\, 107 The Strand\, Tauranga\, Bay of Plenty\, New Zealand
CATEGORIES:Hospo Night
END:VEVENT
BEGIN:VEVENT
DTSTART;VALUE=DATE:20191203
DTEND;VALUE=DATE:20191205
DTSTAMP:20191216T222800
CREATED:20191204T234732Z
LAST-MODIFIED:20191204T234732Z
UID:2061-1575342000-1575428399@cornerstonebar.co.nz
SUMMARY:Poker Night 7pm
DESCRIPTION:Texas Hold ‘Em Poker; every Tuesday night from 7pm \n$20 Buy In \n \n
URL:https://cornerstonebar.co.nz/event/poker-night-7pm-37/
LOCATION:Cornerstone Bar and Eatery\, 107 The Strand\, Tauranga\, Bay of Plenty\, New Zealand
CATEGORIES:Poker Night
END:VEVENT
BEGIN:VEVENT
DTSTART;VALUE=DATE:20191204
DTEND;VALUE=DATE:20191206
DTSTAMP:20191216T222800
CREATED:20191205T023000Z
LAST-MODIFIED:20191205T023000Z
UID:2072-1575428400-1575514799@cornerstonebar.co.nz
SUMMARY:Quiz Night 7.30pm
DESCRIPTION:Come and join our weekly quiz night!  Starting 7.30pm every Wednesday. \nCall us on (07) 928-1120 to book a table for your team! \nNo maximum number of team members. \n \n
URL:https://cornerstonebar.co.nz/event/quiz-night-7-30pm-35/
LOCATION:Cornerstone Bar and Eatery\, 107 The Strand\, Tauranga\, Bay of Plenty\, New Zealand
CATEGORIES:Quiz Night
END:VEVENT
BEGIN:VEVENT
DTSTART;VALUE=DATE:20191208
DTEND;VALUE=DATE:20191211
DTSTAMP:20191216T222800
CREATED:20191204T063448Z
LAST-MODIFIED:20191204T063448Z
UID:2053-1575774000-1575946799@cornerstonebar.co.nz
SUMMARY:Hospo Night
DESCRIPTION:Cornerstone would like to welcome our ‘hospo’ neighbours\, local student population\, and visiting backpackers to come along every Sunday & Monday evening from 5pm to enjoy great food & drink specials\, catch up with old friends\, and make some new friends! \n  \n\n$20 Jugs: includes Export\, Export 33\, Tui\, Waikato\, Amstel Light\n$25 Bottle of Wine: includes House Sauvignon Blanc\, Chardonnay\, Pinot Gris\, or Merlot\n$6 Pint of Tap Beer\n$6 Glass of House Wine\n$16 Burger & Beer: choice of beef\, chicken\, or fish burger\, with a pint of beer OR a glass glass wine\n$10 Cocktail of the Day\n\n \n
URL:https://cornerstonebar.co.nz/event/hospo-night-13/
LOCATION:Cornerstone Bar and Eatery\, 107 The Strand\, Tauranga\, Bay of Plenty\, New Zealand
CATEGORIES:Hospo Night
END:VEVENT
BEGIN:VEVENT
DTSTART;VALUE=DATE:20191210
DTEND;VALUE=DATE:20191212
DTSTAMP:20191216T222800
CREATED:20191204T235144Z
LAST-MODIFIED:20191204T235144Z
UID:2063-1575946800-1576033199@cornerstonebar.co.nz
SUMMARY:Poker Night 7pm
DESCRIPTION:Texas Hold ‘Em Poker; every Tuesday night from 7pm \n$20 Buy In \n \n
URL:https://cornerstonebar.co.nz/event/poker-night-7pm-38/
LOCATION:Cornerstone Bar and Eatery\, 107 The Strand\, Tauranga\, Bay of Plenty\, New Zealand
CATEGORIES:Poker Night
END:VEVENT
BEGIN:VEVENT
DTSTART;TZID=UTC:20191210T190000
DTEND;TZID=UTC:20191210T210000
DTSTAMP:20191216T222800
CREATED:20191205T024153Z
LAST-MODIFIED:20191205T024943Z
UID:2078-1576004400-1576011600@cornerstonebar.co.nz
SUMMARY:Paint & Wine Night - A Starry Christmas Night
DESCRIPTION:Paintvine is the perfect blend of creativity and conversation.  Drink a glass of wine and create a painting; you’ll always go home with more than just a buzz! \n
URL:https://cornerstonebar.co.nz/event/paint-wine-night-a-starry-christmas-night/
LOCATION:Cornerstone Bar and Eatery\, 107 The Strand\, Tauranga\, Bay of Plenty\, New Zealand
CATEGORIES:Paint & Wine Nights
ORGANIZER;CN="Paintvine":MAILTO:hello@paintvine.co.nz
END:VEVENT
BEGIN:VEVENT
DTSTART;VALUE=DATE:20191211
DTEND;VALUE=DATE:20191213
DTSTAMP:20191216T222800
CREATED:20191205T023159Z
LAST-MODIFIED:20191205T023159Z
UID:2074-1576033200-1576119599@cornerstonebar.co.nz
SUMMARY:Quiz Night 7.30pm
DESCRIPTION:Come and join our weekly quiz night!  Starting 7.30pm every Wednesday. \nCall us on (07) 928-1120 to book a table for your team! \nNo maximum number of team members. \n \n
URL:https://cornerstonebar.co.nz/event/quiz-night-7-30pm-36/
LOCATION:Cornerstone Bar and Eatery\, 107 The Strand\, Tauranga\, Bay of Plenty\, New Zealand
CATEGORIES:Quiz Night
END:VEVENT
BEGIN:VEVENT
DTSTART;TZID=UTC:20191212T190000
DTEND;TZID=UTC:20191212T210000
DTSTAMP:20191216T222800
CREATED:20191205T024325Z
LAST-MODIFIED:20191205T024325Z
UID:2082-1576177200-1576184400@cornerstonebar.co.nz
SUMMARY:Paint & Wine Night - Kowhai Tui
DESCRIPTION:Paintvine is the perfect blend of creativity and conversation.  Drink a glass of wine and create a painting; you’ll always go home with more than just a buzz! \n
URL:https://cornerstonebar.co.nz/event/paint-wine-night-kowhai-tui/
LOCATION:Cornerstone Bar and Eatery\, 107 The Strand\, Tauranga\, Bay of Plenty\, New Zealand
CATEGORIES:Paint & Wine Nights
ORGANIZER;CN="Paintvine":MAILTO:hello@paintvine.co.nz
END:VEVENT
BEGIN:VEVENT
DTSTART;VALUE=DATE:20191213
DTEND;VALUE=DATE:20191216
DTSTAMP:20191216T222800
CREATED:20191209T004650Z
LAST-MODIFIED:20191209T004650Z
UID:2088-1576206000-1576378799@cornerstonebar.co.nz
SUMMARY:Live Band 10.30pm - 2.30am
DESCRIPTION:Come and dance the night away with our talented bands performing live for you every Friday and Saturday night from 10.30pm – 2.30am! \nTONIGHT: Badly Stuffed Animals \n \n  \n
URL:https://cornerstonebar.co.nz/event/live-band-10-30pm-2-30am-30/
LOCATION:Cornerstone Bar and Eatery\, 107 The Strand\, Tauranga\, Bay of Plenty\, New Zealand
CATEGORIES:Live Music
END:VEVENT
BEGIN:VEVENT
DTSTART;VALUE=DATE:20191215
DTEND;VALUE=DATE:20191218
DTSTAMP:20191216T222800
CREATED:20191204T063552Z
LAST-MODIFIED:20191204T063552Z
UID:2055-1576378800-1576551599@cornerstonebar.co.nz
SUMMARY:Hospo Night
DESCRIPTION:Cornerstone would like to welcome our ‘hospo’ neighbours\, local student population\, and visiting backpackers to come along every Sunday & Monday evening from 5pm to enjoy great food & drink specials\, catch up with old friends\, and make some new friends! \n  \n\n$20 Jugs: includes Export\, Export 33\, Tui\, Waikato\, Amstel Light\n$25 Bottle of Wine: includes House Sauvignon Blanc\, Chardonnay\, Pinot Gris\, or Merlot\n$6 Pint of Tap Beer\n$6 Glass of House Wine\n$16 Burger & Beer: choice of beef\, chicken\, or fish burger\, with a pint of beer OR a glass glass wine\n$10 Cocktail of the Day\n\n \n
URL:https://cornerstonebar.co.nz/event/hospo-night-14/
LOCATION:Cornerstone Bar and Eatery\, 107 The Strand\, Tauranga\, Bay of Plenty\, New Zealand
CATEGORIES:Hospo Night
END:VEVENT
BEGIN:VEVENT
DTSTART;TZID=UTC:20191216T190000
DTEND;TZID=UTC:20191216T210000
DTSTAMP:20191216T222800
CREATED:20191205T024524Z
LAST-MODIFIED:20191205T024824Z
UID:2084-1576522800-1576530000@cornerstonebar.co.nz
SUMMARY:Paint & Wine Night - Piwakawaka
DESCRIPTION:Paintvine is the perfect blend of creativity and conversation.  Drink a glass of wine and create a painting; you’ll always go home with more than just a buzz! \n
URL:https://cornerstonebar.co.nz/event/paint-wine-night-piwakawaka/
LOCATION:Cornerstone Bar and Eatery\, 107 The Strand\, Tauranga\, Bay of Plenty\, New Zealand
CATEGORIES:Paint & Wine Nights
ORGANIZER;CN="Paintvine":MAILTO:hello@paintvine.co.nz
END:VEVENT
BEGIN:VEVENT
DTSTART;VALUE=DATE:20191217
DTEND;VALUE=DATE:20191219
DTSTAMP:20191216T222800
CREATED:20191204T235253Z
LAST-MODIFIED:20191204T235253Z
UID:2065-1576551600-1576637999@cornerstonebar.co.nz
SUMMARY:Poker Night 7pm
DESCRIPTION:Texas Hold ‘Em Poker; every Tuesday night from 7pm \n$20 Buy In \n \n
URL:https://cornerstonebar.co.nz/event/poker-night-7pm-39/
LOCATION:Cornerstone Bar and Eatery\, 107 The Strand\, Tauranga\, Bay of Plenty\, New Zealand
CATEGORIES:Poker Night
END:VEVENT
BEGIN:VEVENT
DTSTART;TZID=UTC:20191217T190000
DTEND;TZID=UTC:20191217T210000
DTSTAMP:20191216T222800
CREATED:20191205T024720Z
LAST-MODIFIED:20191205T024720Z
UID:2086-1576609200-1576616400@cornerstonebar.co.nz
SUMMARY:Paint & Wine Night - Piwakawaka *SOLD OUT*
DESCRIPTION:Sadly this event has sold out! \n  \nPlease check our events calendar for more Paint & Wine Nights with our lovely friends at Paintvine. \n
URL:https://cornerstonebar.co.nz/event/paint-wine-night-piwakawaka-sold-out/
LOCATION:Cornerstone Bar and Eatery\, 107 The Strand\, Tauranga\, Bay of Plenty\, New Zealand
CATEGORIES:Paint & Wine Nights
ORGANIZER;CN="Paintvine":MAILTO:hello@paintvine.co.nz
END:VEVENT
BEGIN:VEVENT
DTSTART;VALUE=DATE:20191218
DTEND;VALUE=DATE:20191220
DTSTAMP:20191216T222800
CREATED:20191205T023301Z
LAST-MODIFIED:20191205T023301Z
UID:2076-1576638000-1576724399@cornerstonebar.co.nz
SUMMARY:Quiz Night 7.30pm
DESCRIPTION:Come and join our weekly quiz night!  Starting 7.30pm every Wednesday. \nCall us on (07) 928-1120 to book a table for your team! \nNo maximum number of team members. \n \n
URL:https://cornerstonebar.co.nz/event/quiz-night-7-30pm-37/
LOCATION:Cornerstone Bar and Eatery\, 107 The Strand\, Tauranga\, Bay of Plenty\, New Zealand
CATEGORIES:Quiz Night
END:VEVENT
BEGIN:VEVENT
DTSTART;VALUE=DATE:20191220
DTEND;VALUE=DATE:20191223
DTSTAMP:20191216T222800
CREATED:20191209T004854Z
LAST-MODIFIED:20191209T004854Z
UID:2090-1576810800-1576983599@cornerstonebar.co.nz
SUMMARY:Live Band 10.30pm - 2.30am
DESCRIPTION:Come and dance the night away with our talented bands performing live for you every Friday and Saturday night from 10.30pm – 2.30am! \nTONIGHT: SugaFix \n \n
URL:https://cornerstonebar.co.nz/event/live-band-10-30pm-2-30am-31/
LOCATION:Cornerstone Bar and Eatery\, 107 The Strand\, Tauranga\, Bay of Plenty\, New Zealand
CATEGORIES:Live Music
END:VEVENT
BEGIN:VEVENT
DTSTART;VALUE=DATE:20191222
DTEND;VALUE=DATE:20191225
DTSTAMP:20191216T222800
CREATED:20191204T063939Z
LAST-MODIFIED:20191204T063939Z
UID:2057-1576983600-1577156399@cornerstonebar.co.nz
SUMMARY:Hospo Night
DESCRIPTION:Cornerstone would like to welcome our ‘hospo’ neighbours\, local student population\, and visiting backpackers to come along every Sunday & Monday evening from 5pm to enjoy great food & drink specials\, catch up with old friends\, and make some new friends! \n  \n\n$20 Jugs: includes Export\, Export 33\, Tui\, Waikato\, Amstel Light\n$25 Bottle of Wine: includes House Sauvignon Blanc\, Chardonnay\, Pinot Gris\, or Merlot\n$6 Pint of Tap Beer\n$6 Glass of House Wine\n$16 Burger & Beer: choice of beef\, chicken\, or fish burger\, with a pint of beer OR a glass glass wine\n$10 Cocktail of the Day\n\n \n
URL:https://cornerstonebar.co.nz/event/hospo-night-15/
LOCATION:Cornerstone Bar and Eatery\, 107 The Strand\, Tauranga\, Bay of Plenty\, New Zealand
CATEGORIES:Hospo Night
END:VEVENT
BEGIN:VEVENT
DTSTART;VALUE=DATE:20191227
DTEND;VALUE=DATE:20191230
DTSTAMP:20191216T222800
CREATED:20191209T005048Z
LAST-MODIFIED:20191209T005048Z
UID:2092-1577415600-1577588399@cornerstonebar.co.nz
SUMMARY:Live Band 10.30pm - 2.30am
DESCRIPTION:Come and dance the night away with our talented bands performing live for you every Friday and Saturday night from 10.30pm – 2.30am! \nTONIGHT: Left Hand Break ( LHB) \n \n
URL:https://cornerstonebar.co.nz/event/live-band-10-30pm-2-30am-32/
LOCATION:Cornerstone Bar and Eatery\, 107 The Strand\, Tauranga\, Bay of Plenty\, New Zealand
CATEGORIES:Live Music
END:VEVENT
BEGIN:VEVENT
DTSTART;VALUE=DATE:20191231
DTEND;VALUE=DATE:20200102
DTSTAMP:20191216T222800
CREATED:20191209T013128Z
LAST-MODIFIED:20191209T013128Z
UID:2094-1577761200-1577847599@cornerstonebar.co.nz
SUMMARY:NEW YEAR'S EVE
DESCRIPTION:Live Band “Left Hand Break” performing from 10.30pm and counting down to 2020 with us! \n \n
URL:https://cornerstonebar.co.nz/event/new-years-eve/
LOCATION:Cornerstone Bar and Eatery\, 107 The Strand\, Tauranga\, Bay of Plenty\, New Zealand
CATEGORIES:Live Music
END:VEVENT
END:VCALENDAR